BEGIN:VCALENDAR
VERSION:2.0
PRODID:-//hacksw/handcal//NONSGML v1.0//EN
BEGIN:VEVENT
SUMMARY:TOURNOI ABC IDF 1.2.4 HDP 2026
UID:0845f115-4b00-4102-9c23-6488c4d6203f
DTSTART:20260502T070000Z
DTEND:20260503T143000Z
LOCATION:Localisation Bowling Colorbowl, 16 Rue Nicolas Appert 51430 Tinqueux
CATEGORIES:Sportif
STATUS:
DESCRIPTION:<p style="text-align:center;">Le club ABC IDF organise
 son tournoi 1.2.4 handicap au Colorbowl de Tinqueux les 02 et 03 Mai
 2026.</p>
 
 <p style="text-align:center;"> </p>
 
 <p
 style="text-align:center;">Il y aura 4 parties a jouer dans chacune
 des categories Individuel et Doublette.</p>
 
 <p
 style="text-align:center;">En individuel la repartition des joueurs
 par piste sera tiree au sort.</p>
 
 <p style="text-align:center;">Les
 doublettes seront constituees apres les resultats des 4 parties en
 individuel : joueurs 1 et 4 ensemble, joueurs 2 et 3
 ensemble.</p>
 
 <p style="text-align:center;">Les quilles des
 individuels ne sont pas conservees pour les doublettes.</p>
 
 <p
 style="text-align:center;">Il y aura 7 parties a jouer dans la
 categorie Quadrette en petersen.</p>
 
 <p
 style="text-align:center;">Bonus 120 quilles en cas de victoire, 60
 en cas de match nul.</p>
 
 <p style="text-align:center;">Les
 quadrettes seront composes d'un joueur 1,2,3 & 4.</p>
 
 <p
 style="text-align:center;">Repartition des Quadrettes en 3 poules (A,
 B et C))</p>
 
 <p style="text-align:center;">en fonction du total des
 4 joueurs handicap cumules lors des phases individuel et
 doublette.</p>
 
 <p style="text-align:center;">poule A : equipes 1, 4,
 7, 10, 13, 16, 19, 22</p>
 
 <p style="text-align:center;">poule B :
 equipes 2, 5, 8, 11, 14, 17, 20, 23</p>
 
 <p
 style="text-align:center;">poule C : equipes 3, 6, 9, 12, 15, 18, 21,
 24</p>
 
 <p style="text-align:center;">chaque poule jouera dans son
 bloc de 8 pistes</p>
 
 <p style="text-align:center;">Les quilles des
 doublettes et individuels ne sont pas conservees pour les
 quadrettes.</p>
 
 <p style="text-align:center;">Pas de remplacant
 autorise.</p>
 
 <p style="text-align:center;"> </p>
 
 <p
 style="text-align:center;"><em><strong><a
 href="https://admin.sportsregions.fr/media/uploaded/sites/27313/kcupload/files/tounoi%201.2.4%20HDP%20Tinqueux.pdf"
 target="_blank" rel="noreferrer noopener">Reglement
 :</a></strong></em></p>
URL;VALUE=URI:https://saintquentin-buls.sportsregions.fr/evenements/2026/05/02/tournoi-abc-idf-124-hdp-2026-2436075
END:VEVENT
END:VCALENDAR
